BEGIN:VCALENDAR
PRODID:NingEventWidget-v1
VERSION:2.0
METHOD:PUBLISH
BEGIN:VTIMEZONE
TZID:Europe/Berlin
X-LIC-LOCATION:Europe/Berlin
BEGIN:DAYLIGHT
TZOFFSETFROM:+0100
TZOFFSETTO:+0200
TZNAME:CEST
DTSTART:19700329T020000
RRULE:FREQ=YEARLY;BYMONTH=3;BYDAY=-1SU
END:DAYLIGHT
BEGIN:STANDARD
TZOFFSETFROM:+0200
TZOFFSETTO:+0100
TZNAME:CET
DTSTART:19701025T030000
RRULE:FREQ=YEARLY;BYMONTH=10;BYDAY=-1SU
END:STANDARD
END:VTIMEZONE
BEGIN:VEVENT
UID:6400053:Event:43917
DTSTAMP:20170710T032056Z
SUMMARY:25th anniversary of the RENECOFOR Network in Beaune, France
DESCRIPTION:You’re kindly invited to the conference organized from O
 ctober 11 to 13, 2017, by the ONF (French National Forest Office), to 
 celebrate the 25th anniversary of the RENECOFOR Network (French part o
 f the ICP Forests Level II network).\nThis conference will be the oppo
 rtunity to attend informative presentations reviewing the 25 years of 
 knowledge acquired through the Network’s forest ecosystem monitoring
  programme. It is addressed to the ONF foresters involved in the netwo
 rk, to partners, but also to all those interested in monitoring forest
  ecosystems: scientists, forest managers, policy makers, professors, .
 ..\nIt will take place in Beaune (Capital of Burgundy wine)… but it 
 will be in French (sorry for those who can’t understand it). Simulta
 neous French-English translation will be set up only on October 13 mor
 ning, when several ICP Forests colleagues will give a presentation (Ma
 rco Ferretti, Nils König, Marcus Schaub).   \nOnline registration w
 ill be open to participants outside the ONF from Monday June 26. It is
  for free and includes the lunches. \nHere is the website of the conf
 erence, with the preliminary programme, the location map, and the regi
 stration portal: https://renecofor.wixsite.com/colloque\nProgramme in 
 English\n\nFor more information visit http://icp-forests.net/events/25
 th-anniversary-of-the-renecofor-network
DTSTART;TZID=Europe/Berlin:20171011T000000
DTEND;TZID=Europe/Berlin:20171013T235900
CATEGORIES:scientific
LOCATION:--
WEBSITE:
URL:
CONTACT:
ORGANIZER:Manuel Nicolas, RENECOFOR France
ATTACH;FMTTYPE="image/jpeg":http://api.ning.com:80/files/lLzvXqlzx5VNF
 j1CTjswDj9tCHnR0-lkSDyoFIerm6JOwNyn0k64NSxs9njUL3A1zOMV6*AyMCAncCgfXYs
 7CnPronPLzI0g/Unbenannt.jpg
ATTENDEE;ROLE=REQ-PARTICIPANT;PARTSTAT=ACCEPTED;RSVP=TRUE;CN="Manuel N
 ICOLAS":http://icp-forests.net/profile/ManuelNICOLAS
END:VEVENT
END:VCALENDAR
